Workbook

Sheet Hoja1
C2: PUBLICACIÓN TARIFAS PARA LOS SERVICIOS PÚBLICOS DE ACUEDUCTO, ALCANTARILLADO Y ASEO PRESTADOS POR LA EMPRESA DE SERVICIOS PÚBLICOS DE CAJICÁ S.A. E.S.P. NIT. 832.002.386-5
C6: TARIFAS REFERENCIA DE LOS SERVICIOS DE ACUEDUCTO Y ALCANTARILLADO | L6: FACTORES DE SUBSIDIOS Y CONTRIBUCIONES
C8: En cumplimiento de los requerimientos normativos señalados en el Artículo 1.8.6.4 "INFORMACIÓN PERIÓDICA A LOS USUARIOS" de la Resolución CRA 943 de 2021 y de acuerdo a la aplicación del marco tarifario contenido en la Resolución CRA 688 de 2014 compilada y unificada en la Resoluciòn CRA 943 de 2021, se publican los costos de referencia para los servicios públicos domiciliarios de acueducto y alcantarillado, además de los factores de subsidios y contribuciones de las tarifas finales por suscriptor. | L8: Los factores de subsidios y contribuciones aplicados a los servicios de acueducto y alcantarillado, corresponden a los aprobados por el Concejo Municipal del municipio de Cajicá mediante Acuerdo N° 10 de 2024.
C9: TARIFAS POR USO Y ESTRATO DE LOS SERVICIOS PUBLICOS DE ACUEDUCTO Y ALCANTARILLADO ZONA URBANA | L9: ACUEDUCTO Y ALCANTARILLADO
D12: ACUEDUCTO | G12: ALCANTARILLADO | L12: Factores Sub (-) % Aporte (+) ZONA URBANA
C13: ESTRATO | D13: CARGO FIJO ($/Suscriptor) | E13: C. CONSUMO BASICO ( $/m3) | F13: C. CONSUMO COMPL & SUNT | G13: CARGO FIJO $/Suscriptor | H13: C. CONSUMO BASICO ( $/m3) | I13: C. CONSUMO COMPL & SUNT | L13: USO/ESTRATO | M13: Cargo Fijo | N13: Cargo por consumo/aseo
C15: Estrato 1 | D15: 4910.49 | E15: 887.37 | F15: 2957.9 | G15: 2897.493 | H15: 536.76 | I15: 1789.2 | L15: Estrato 1 | M15: -0.7 | N15: -0.7
C16: Estrato 2 | D16: 9820.98 | E16: 1774.74 | F16: 2957.9 | G16: 5794.986 | H16: 1073.52 | I16: 1789.2 | L16: Estrato 2 | M16: -0.4 | N16: -0.4
C17: Estrato 3 | D17: 13913.055 | E17: 2514.215 | F17: 2957.9 | G17: 8209.5635 | H17: 1520.82 | I17: 1789.2 | L17: Estrato 3 | M17: -0.15 | N17: -0.15
C18: Estrato 4 | D18: 16368.3 | E18: 2957.9 | F18: 2957.9 | G18: 9658.31 | H18: 1789.2 | I18: 1789.2 | L18: Estrato 4 | M18: 0 | N18: 0
C19: Estrato 5 | D19: 24552.45 | E19: 4436.85 | F19: 4436.85 | G19: 14487.465 | H19: 2683.8 | I19: 2683.8 | L19: Estrato 5 | M19: 0.5 | N19: 0.5
C20: Estrato 6 | D20: 26189.28 | E20: 4732.64 | F20: 4732.64 | G20: 15453.296 | H20: 2862.72 | I20: 2862.72 | L20: Estrato 6 | M20: 0.6 | N20: 0.6
C21: INDUSTRIAL | D21: 21278.79 | E21: 3845.27 | F21: 3845.27 | G21: 12555.803 | H21: 2325.96 | I21: 2325.96 | L21: Industrial | M21: 0.3 | N21: 0.3
C22: COMERCIAL | D22: 24552.45 | E22: 4436.85 | F22: 4436.85 | G22: 14487.465 | H22: 2683.8 | I22: 2683.8 | L22: Comercial | M22: 0.5 | N22: 0.5
C23: OFICIAL | D23: 16368.3 | E23: 2957.9 | F23: 2957.9 | G23: 9658.31 | H23: 1789.2 | I23: 1789.2 | L23: Oficial | M23: 0 | N23: 0
C25: TARIFAS POR USO Y ESTRATO DE LOS SERVICIOS PUBLICOS DE ACUEDUCTO Y ALCANTARILLADO ZONA RURAL
L26: Factores Sub (-) % Aporte (+) ZONA RURAL
D28: ACUEDUCTO | G28: ALCANTARILLADO | L28: USO/ESTRATO | M28: Cargo Fijo | N28: Cargo por consumo/aseo
C29: ESTRATO | D29: CARGO FIJO ($/Suscriptor) | E29: C. CONSUMO BASICO ( $/m3) | F29: C. CONSUMO COMPL & SUNT | G29: CARGO FIJO $/Suscriptor | H29: C. CONSUMO BASICO ( $/m3) | I29: C. CONSUMO COMPL & SUNT
L30: Estrato 1 | M30: -0.8 | N30: -0.8
C31: Estrato 1 | D31: 3273.66 | E31: 591.58 | F31: 2957.9 | G31: 1931.662 | H31: 357.84 | I31: 1789.2 | L31: Estrato 2 | M31: -0.5 | N31: -0.5
C32: Estrato 2 | D32: 8184.15 | E32: 1478.95 | F32: 2957.9 | G32: 4829.155 | H32: 894.6 | I32: 1789.2 | L32: Estrato 3 | M32: -0.3 | N32: -0.3
C33: Estrato 3 | D33: 11457.81 | E33: 2070.53 | F33: 2957.9 | G33: 6760.817 | H33: 1252.44 | I33: 1789.2 | L33: Estrato 4 | M33: 0 | N33: 0
C34: Estrato 4 | D34: 16368.3 | E34: 2957.9 | F34: 2957.9 | G34: 9658.31 | H34: 1789.2 | I34: 1789.2 | L34: Estrato 5 | M34: 0.5 | N34: 0.5
C35: Estrato 5 | D35: 24552.45 | E35: 4436.85 | F35: 4436.85 | G35: 14487.465 | H35: 2683.8 | I35: 2683.8 | L35: Estrato 6 | M35: 0.6 | N35: 0.6
C36: Estrato 6 | D36: 26189.28 | E36: 4732.64 | F36: 4732.64 | G36: 15453.296 | H36: 2862.72 | I36: 2862.72 | L36: Industrial | M36: 0.3 | N36: 0.3
C37: INDUSTRIAL | D37: 21278.79 | E37: 3845.27 | F37: 3845.27 | G37: 12555.803 | H37: 2325.96 | I37: 2325.96 | L37: Comercial | M37: 0.5 | N37: 0.5
C38: COMERCIAL | D38: 24552.45 | E38: 4436.85 | F38: 4436.85 | G38: 14487.465 | H38: 2683.8 | I38: 2683.8 | L38: Oficial | M38: 0 | N38: 0
C39: OFICIAL | D39: 16368.3 | E39: 2957.9 | F39: 2957.9 | G39: 9658.31 | H39: 1789.2 | I39: 1789.2
C42: TARIFAS VIGENTES DEL SERVICIO PUBLICO DE ASEO | L42: FACTORES DE SUBSIDIOS Y CONTRIBUCIONES
C44: En cumplimiento de los requerimientos normativos señalados en el Articulo 5.3.4.4 "INFORMACIÓN PERIÓDICA A LOS USUARIOS" de la Resolución CRA 943 de 2021 y de acuerdo a la aplicación del marco tarifario contenido en la Resolucion CRA 720 de 2015 compilada y unificada en la Resoluciòn CRA 943 de 2021, se publican los costos de referencia para el servicio público de aseo de las tarifas finales por suscriptor. | L44: Los factores de subsidios y contribuciones aplicados al servicio de aseo, corresponden a los aprobados por el Concejo Municipal del municipio de Cajicá mediante Acuerdo N° 10 de 2024.
C49: COSTOS DE REFERENCIA | L49: ASEO
D51: Costo de Comercialización por suscriptor ($/Suscriptor-mes) | G51: CCS | H51: 6033.7855 | L51: Factores Sub (-) % Aporte (+)
D52: Costo de barrido y limpieza por suscriptor ($/Suscriptor-mes) | G52: CBLS | H52: 11200.86 | L52: USO/ESTRATO | M52: Urbano | N52: Rural
D53: Costo de limpieza urbana por suscriptor ($/Suscriptor-mes) | G53: CLUS | H53: 2143.62
D54: COSTO FIJO TOTAL | G54: CFT | H54: 19378.266 | L54: Estrato 1 | M54: -0.7 | N54: -0.8
D55: Costo de Recolección y Transporte ($/Tonelada) | G55: CRT | H55: 168957.39 | L55: Estrato 2 | M55: -0.4 | N55: -0.5
D56: Costo de Disposición final ($/Tonelada) | G56: CDF | H56: 72373.76 | L56: Estrato 3 | M56: -0.15 | N56: -0.3
D57: COSTO VARIABLE DE RESIDUOS NO APROVECHABLES | G57: CVNA | H57: 241331.15 | L57: Estrato 4 | M57: 0 | N57: 0
D58: Valor Base de Aprovechamiento por tonelada | G58: VBA | H58: 219060.15 | L58: Estrato 5 | M58: 0.5 | N58: 0.5
...

Sheet Hoja1 (2)
C2: PUBLICACIÓN TARIFAS PARA LOS SERVICIOS PÚBLICOS DE ACUEDUCTO, ALCANTARILLADO Y ASEO PRESTADOS POR LA EMPRESA MUNICIPAL DE ACUEDUCTO, ALCANTARILLADO Y ASEO DE FUNZA - EMAAF E.S.P. NIT. 832.000.776-5
C6: COSTOS Y TARIFAS REFERENCIA DE LOS SERVICIOS DE ACUEDUCTO Y ALCANTARILLADO | L6: FACTORES DE SUBSIDIOS Y CONTRIBUCIONES
C8: En cumplimiento de los requerimientos normativos señalados en el Artículo 1.8.6.4 "INFORMACIÓN PERIÓDICA A LOS USUARIOS" de la Resolución CRA 943 de 2021 y de acuerdo a la aplicación del marco tarifario contenido en la Resolución CRA 688 de 2014, se publican los costos de referencia para los servicios públicos domiciliarios de acueducto y alcantarillado, además de los factores de subsidios y contribuciones de las tarifas finales por suscriptor. | L8: Los factores de subsidios y contribuciones aplicados a los servicios de acueducto, alcantarillado y aseo, corresponden a los aprobados por el Concejo Municipal del municipio de Funza mediante Acuerdo N° 026 de 2021.
C10: COSTOS DE REFERENCIA | L10: Factores sub (-) % Aporte (+)
H12: ACUEDUCTO | I12: ALCANTARILLADO | L12: USO/ESTRATO | M12: Cargo Fijo | N12: Cargo por consumo/aseo
C13: Costo Medio de Administración ($/Suscriptor-mes) | G13: CMA | H13: 7820.7096 | I13: 4554.16
C14: Costo Medio de Operación ($/m3) | G14: CMO | H14: 2024.0892 | I14: 1109.86 | L14: Estrato 1 | M14: -0.7 | N14: -0.7
C15: Costo Medio de Inversión ($/m3) | G15: CMI | H15: 1807.03 | I15: 1551.06 | L15: Estrato 2 | M15: -0.4 | N15: -0.4
C16: Costo Medio de Tasas Ambientales ($/m3) | G16: CMT | H16: 5.98 | I16: 16.31 | L16: Estrato 3 | M16: -0.1 | N16: -0.15
L17: Estrato 4 | M17: 0 | N17: 0
C18: TARIFA DEL SERVICIO | L18: industrial | M18: 0.5 | N18: 0.5
L19: Comercial | M19: 0.5 | N19: 0.5
H20: ACUEDUCTO | I20: ALCANTARILLADO
C21: Cargo fijo ($/Suscriptor-mes) a aplicar a partir del 1° de junio de 2024 | G21: CF | H21: =H13 -> 7820.7096 | I21: =I13 -> 4554.16 | L21: oficial | M21: 0 | N21: 0
C22: Cargo por Consumo ($/m3) a aplicar a partir del 1° de junio de 2024 | G22: CC | H22: =H14+H15+H16 -> 3837.0992 | I22: =I14+I15+I16 -> 2677.23
C24: TARIFAS POR USO Y ESTRATO DE LOS SERVICIOS PUBLICOS DE ACUEDUCTO Y ALCANTARILLADO
D27: ACUEDUCTO | G27: ALCANTARILLADO
C28: ESTRATO | D28: CARGO FIJO ($/Suscriptor) | E28: C. CONSUMO BASICO ( $/m3) | F28: C. CONSUMO COMPL & SUNT | G28: CARGO FIJO $/Suscriptor | H28: C. CONSUMO BASICO ( $/m3) | I28: C. CONSUMO COMPL & SUNT
C29: Estrato 1 | D29: =$H$21*(1+$M14) -> 2346.2129 | E29: =$H$22*(1+$N14) -> 1151.1298 | F29: =$H$22 -> 3837.0992 | G29: =$I$21*(1+$M14) -> 1366.248 | H29: =$I$22*(1+$N14) -> 803.169 | I29: =$I$22 -> 2677.23
C30: Estrato 2 | D30: =$H$21*(1+$M15) -> 4692.4258 | E30: =$H$22*(1+$N15) -> 2302.2595 | F30: =$H$22 -> 3837.0992 | G30: =$I$21*(1+$M15) -> 2732.496 | H30: =$I$22*(1+$N15) -> 1606.338 | I30: =$I$22 -> 2677.23
C31: Estrato 3 | D31: =$H$21*(1+$M16) -> 7038.6387 | E31: =$H$22*(1+$N16) -> 3261.5343 | F31: =$H$22 -> 3837.0992 | G31: =$I$21*(1+$M16) -> 4098.744 | H31: =$I$22*(1+$N16) -> 2275.6455 | I31: =$I$22 -> 2677.23
C32: Estrato 4 | D32: =$H$21*(1+$M17) -> 7820.7096 | E32: =$H$22*(1+$N17) -> 3837.0992 | F32: =$H$22 -> 3837.0992 | G32: =$I$21*(1+$M17) -> 4554.16 | H32: =$I$22*(1+$N17) -> 2677.23 | I32: =$I$22 -> 2677.23
C33: INDUSTRIAL | D33: =$H$21*(1+$M18) -> 11731.064 | E33: =$H$22*(1+$N18) -> 5755.6488 | F33: =$H$22*(1+$N18) -> 5755.6488 | G33: =$I$21*(1+$M18) -> 6831.24 | H33: =$I$22*(1+$N18) -> 4015.845 | I33: =$I$22*(1+$N18) -> 4015.845
C34: COMERCIAL | D34: =$H$21*(1+$M19) -> 11731.064 | E34: =$H$22*(1+$N19) -> 5755.6488 | F34: =$H$22*(1+$N19) -> 5755.6488 | G34: =$I$21*(1+$M19) -> 6831.24 | H34: =$I$22*(1+$N19) -> 4015.845 | I34: =$I$22*(1+$N19) -> 4015.845
C35: OFICIAL | D35: =$H$21*(1+$M21) -> 7820.7096 | E35: =$H$22*(1+$N21) -> 3837.0992 | F35: =$H$22*(1+$N21) -> 3837.0992 | G35: =$I$21*(1+$M21) -> 4554.16 | H35: =$I$22*(1+$N21) -> 2677.23 | I35: =$I$22*(1+$N21) -> 2677.23
C38: TARIFAS VIGENTES DEL SERVICIO PUBLICO DE ASEO
C40: En cumplimiento de los requerimientos normativos señalados en el Articulo 5.3.4.4 "INFORMACIÓN PERIÓDICA A LOS USUARIOS" de la Resolución CRA 943 de 2021 y de acuerdo a la aplicación del marco tarifario contenido en la Resolucion CRA 720 de 2015, se publican los costos de referencia para el servicio público de aseo de las tarifas finales por suscriptor.
C42: COSTOS DE REFERENCIA | L42: TARIFA FINAL POR SUSCRIPTOR
C44: Costo de Comercialización por suscriptor ($/Suscriptor-mes) | H44: CCS | I44: 2927.8 | L44: USO/ESTRATO | M44: Habitado | N44: Deshabitado
C45: Costo de barrido y limpieza por suscriptor ($/Suscriptor-mes) | H45: CBLS | I45: 3304.787 | L45: Estrato 1 | M45: 6028.16 | N45: 2684.88
C46: Costo de limpieza urbana por suscriptor ($/Suscriptor-mes) | H46: CLUS | I46: 1538.49 | L46: Estrato 2 | M46: 12413.66 | N46: 5369.76
C47: COSTO FIJO TOTAL | H47: CFT | I47: =I46+I45+I44 -> 7771.077 | L47: Estrato 3 | M47: 17875.31 | N47: 7607.16
C48: Costo de Recolección y Transporte ($/Tonelada) | H48: CRT | I48: 112236.78 | L48: Estrato 4 | M48: 21880.62 | N48: 8949.6
C49: Costo de Disposición final ($/Tonelada) | H49: CDF | I49: 62469.81 | L49: Industrial | M49: 51199.37 | N49: 13424.4
C50: COSTO VARIABLE DE RESIDUOS NO APROVECHABLES | H50: CVNA | I50: =I49+I48 -> 174706.59 | L50: Comercial | M50: 51199.37 | N50: 13424.4
C51: Valor Base de Aprovechamiento por tonelada de residuos aprovechables | H51: VBA | I51: 153229.98 | L51: Oficial | M51: 34823.485 | N51: 8949.6

Sheet Hoja2
B2: TARIFAS VIGENTES DEL SERVICIO PUBLICO DE ASEO
B4: En cumplimiento de los requerimientos normativos señalados en el Articulo 5.3.4.2 "INFORMACIÓN A LOS USUARIOS" de la Resolución CRA 943 de 2021 y de acuerdo a la aplicación del marco tarifario contenido en la Resolucion CRA 720 de 2015, se publican los costos de referencia para el servicio público de aseo y las tarifas finales por suscriptor, que se aplicaran a partir del 1° de marzo de 2023 en razón a la actualización por acumulación del IPC en el mes de enero de 2023 por 4.5992%, el IPCC por 3.3280% y la acumulación anual del SMMLV del 16%
B6: COSTOS DE REFERENCIA | K6: TARIFA FINAL POR SUSCRIPTOR
B8: Costo de Comercialización por suscriptor ($ octubre 2022/Suscriptor-mes) | G8: CCS | H8: 2610.7 | K8: USO/ESTRATO | L8: Tarifa Suscriptor/mes
B9: Costo de barrido y limpieza por suscriptor ($ octubre 2022/Suscriptor-mes) | G9: CBLS | H9: 4235.92 | L9: Habitado | N9: Deshabitado
B10: Costo de limpieza urbana por suscriptor ($ octubre 2022/Suscriptor-mes) | G10: CLUS | H10: 73.83 | K10: Estrato 1 | L10: 9481.05 | N10: =$N$13*(1+Hoja1!N15) -> 2236.473
B11: COSTO FIJO TOTAL | G11: CFT | H11: =SUM(H8:H10) -> 6920.45 | K11: Estrato 2 | L11: 11911.71 | N11: =$N$13*(1+Hoja1!N16) -> 4472.946
B12: Costo de Recolección y Transporte ($ octubre 2022 Tonelada) | G12: CRT | H12: 139745.51 | K12: Estrato 3 | L12: 17329.21 | N12: =$N$13*(1+Hoja1!N17) -> 6336.6735
B13: Costo de Disposición final ($ octubre 2022/Tonelada) | G13: CDF | H13: 38407 | K13: Estrato 4 | L13: 21634.38 | N13: 7454.91
B14: COSTO VARIABLE DE RESIDUOS NO APROVECHABLES | G14: CVNA | H14: =SUM(H12:H13) -> 178152.51 | K14: Estrato 5 | L14: 36727.23 | N14: =$N$13*(1+Hoja1!N21) -> 9691.383
B15: Valor Base de Aprovechamiento por tonelada de residuos aprovechables | G15: VBA | H15: 167762.29 | K15: Estrato 6 | L15: 45161.63 | N15: =$N$13*(1+Hoja1!N22) -> 11182.365
K16: Industrial | L16: 60510.6 | N16: =$N$13*(1+Hoja1!N23) -> 7454.91
K17: Comercial | L17: 60510.6 | N17: =$N$13*(1+Hoja1!#REF!) -> #REF!
K18: Oficial | L18: 40340.4 | N18: =$N$13*(1+Hoja1!#REF!) -> #REF!
